BEGIN:VCALENDAR
VERSION:2.0
PRODID:-//eventon.com NONSGML v1.0//EN
CALSCALE:GREGORIAN
METHOD:PUBLISH
BEGIN:VEVENT
UID:69ed1048c206d
DTSTAMP:20260425T190440Z
DTSTART:20170304
DTEND:20170305
LOCATION:St. Raphaël St. Raphael
SUMMARY:St. Raphaël
DESCRIPTION:La constellation familiale est un moyen efficace pour trouver d
 es solutions à des problèmes personnels chroniques et récurrents. Une Co
 nstellation Familiale est un atelier de travail qui consiste à mettre en p
 lace\,  dans un espace donné\,  des personnes qui vont représenter les me
 mbres d&#8217;une famille\,  elle montre comment\,  animés\,  inconsciemme
 nt\, [..]\nhttps://www.f-feininger.com/events/constellations-familiales-st-
 raphael/
URL:https://www.f-feininger.com/events/constellations-familiales-st-raphael/
END:VEVENT
END:VCALENDAR